BEGIN:VCALENDAR
VERSION:2.0
PRODID:-//wp-events-plugin.com//6.4.7.2//EN
TZID:Europe/Madrid
X-WR-TIMEZONE:Europe/Madrid
BEGIN:VEVENT
UID:67@comgranada.com
DTSTART;TZID=Europe/Madrid:20250303T200000
DTEND;TZID=Europe/Madrid:20250303T200000
DTSTAMP:20250219T100104Z
URL:https://comgranada.com/eventos/20250303/
SUMMARY:Atención Primaria · Sesión Clínica
DESCRIPTION:Sesión Clínica correspondiente al ciclo de Atención Primaria
 .\n\n"Actualización del Protocolo de Actuación de la hiperferritinemia"\
 n\nDª. Marta Vacas Gordillo. Médico residente de Medicina Familiar y Com
 unitaria. Centro de Salud de Góngora (Granada)\n\nBajo la dirección y co
 ordinación de D. José Ignacio Peis Redondo\, Vocal de Atención Primaria
  de este Colegio\, y Dª. María Pedrosa Arias.\n\n&nbsp\;\n\nLe recordamo
 s que estas sesiones están destinadas a médicos de Atención Primaria y 
 tiene como objetivo la actualización de conocimientos y unificación de c
 riterios en los diversos campos que abarca la AP.\n\nSesión acreditada po
 r la Agencia de Calidad Sanitaria de Andalucía (ACSA) con 0\,2 créditos 
 por sesión. Para poder acceder al diploma acreditado de asistencia a las 
 mismas será necesario visualizar al menos un 70% de la duración total de
  cada sesión.\n\nEsta sesión está prevista que se realice de forma mix
 ta (presencial y online)\, pudiendo acudir presencialmente al Colegio o vi
 sionarlas de forma online a través del CANAL TV del Colegio en COMDA.TV. 
 En esta modalidad\, para la obtención del diploma de asistencia será req
 uisito imprescindible el visionado mínimo del 70% de la sesión.\n\nPara 
 el acceso deberá entrar en el enlace:\n\nhttps://www.comda.tv/channel-13_
 directos-granada.html\n\nDeberá identificarse introduciendo los datos:\n\
 nUsuario: número de colegiado compuesto de los últimos 7 dígitos (ejemp
 lo 0402020 o 1803526)\nContraseña: mismo número de colegiado compuesto d
 e los últimos 7 dígitos (ejemplo 0402020 o 1803526)\n\nPara activar el c
 hat y poder plantear cuestiones debe pinchar en el icono de color verde ha
 bilitado en la esquina inferior izquierda de la pantalla (tenga en cuenta 
 que en el modo pantalla completa este icono desaparece).\n\nRECUERDE: La S
 esión Clínica dará inicio a las 20:00 horas. Si ha llegado la hora y no
  le aparece el vídeo del streaming\, le recomendamos que actualice la pá
 gina.\n\nSi tiene alguna duda le rogamos que contacte con este Colegio pre
 viamente a la celebración de la Sesión en el 958806600.
ATTACH;FMTTYPE=image/jpeg:https://comgranada.com/wp-content/uploads/conten
 ido/medicos/formacion/sc-atencionprimaria.jpg
END:VEVENT
BEGIN:VTIMEZONE
TZID:Europe/Madrid
X-LIC-LOCATION:Europe/Madrid
BEGIN:STANDARD
DTSTART:20241027T020000
TZOFFSETFROM:+0200
TZOFFSETTO:+0100
TZNAME:CET
END:STANDARD
END:VTIMEZONE
END:VCALENDAR