BEGIN:VCALENDAR
VERSION:2.0
PRODID:-//wp-events-plugin.com//6.4.7.2//EN
TZID:Europe/Madrid
X-WR-TIMEZONE:Europe/Madrid
BEGIN:VEVENT
UID:50@comgranada.com
DTSTART;TZID=Europe/Madrid:20250305T200000
DTEND;TZID=Europe/Madrid:20250305T200000
DTSTAMP:20250219T100117Z
URL:https://comgranada.com/eventos/20250305/
SUMMARY:Diagnóstico por Imagen · Sesión Clínica
DESCRIPTION:Sesión Clínica dentro del ciclo de Diagnóstico por imagen.\n
 \n"Diagnóstico por imagen y tratamiento del hombro inestable"\n\nCarlos A
 ndrés Peña Rodríguez. Cirugía Ortopédica y Traumatología\nLaura Fern
 ández Navarro. Radiodiagnóstico\n\nBajo la dirección y coordinación de
 l Dr. José Luis Martín Rodríguez.\n\n&nbsp\;\n\nLe recordamos que estas
  Sesiones están destinadas a médicos de Atención Primaria y Hospitalari
 a y de diferentes especialidades\, no sólo radiólogos\, interesados en a
 dquirir unos conocimientos basados en las técnicas de diagnóstico por im
 agen a través de casos problema y del intercambio de conocimientos con el
  objetivo de encontrar solución a distintos problemas médicos y/o propor
 cionar información específica sobre temas de interés.\n\nSesión acredi
 tada por la Agencia de Calidad Sanitaria de Andalucía (ACSA) con 0\,2 cr
 éditos por sesión.\n\nEsta sesión está prevista que se realice de for
 ma mixta (presencial y online)\, pudiendo acudir presencialmente al Colegi
 o o visionarlas de forma online a través del CANAL TV del Colegio en COMD
 A.TV. En esta modalidad\, para la obtención del diploma de asistencia ser
 á requisito imprescindible el visionado mínimo del 70% de la sesión.\n\
 nPara el acceso deberá entrar en el enlace:\n\nhttps://www.comda.tv/chann
 el-13_directos-granada.html\n\nDeberá identificarse introduciendo los dat
 os:\n\nUsuario: número de colegiado compuesto de los últimos 7 dígitos 
 (ejemplo 0402020 o 1803526)\nContraseña: mismo número de colegiado compu
 esto de los últimos 7 dígitos (ejemplo 0402020 o 1803526)\n\nPara activa
 r el chat y poder plantear cuestiones debe pinchar en el icono de color ve
 rde habilitado en la esquina inferior izquierda de la pantalla (tenga en c
 uenta que en el modo pantalla completa este icono desaparece).\n\nRECUERDE
 : La Sesión Clínica dará inicio a las 20:00 horas. Si ha llegado la hor
 a y no le aparece el vídeo del streaming\, le recomendamos que actualice 
 la página.\n\nSi tiene alguna duda le rogamos que contacte con este Coleg
 io previamente a la celebración de la Sesión en el 958806600.
ATTACH;FMTTYPE=image/jpeg:https://comgranada.com/wp-content/uploads/conten
 ido/medicos/formacion/sc-diagnosticoimagen.jpg
END:VEVENT
BEGIN:VTIMEZONE
TZID:Europe/Madrid
X-LIC-LOCATION:Europe/Madrid
BEGIN:STANDARD
DTSTART:20241027T020000
TZOFFSETFROM:+0200
TZOFFSETTO:+0100
TZNAME:CET
END:STANDARD
END:VTIMEZONE
END:VCALENDAR